BEGIN:VCALENDAR
VERSION:2.0
PRODID:-//Sport-Club Wörthsee - ECPv6.15.20//NONSGML v1.0//EN
CALSCALE:GREGORIAN
METHOD:PUBLISH
X-WR-CALNAME:Sport-Club Wörthsee
X-ORIGINAL-URL:https://www.sc-woerthsee.de
X-WR-CALDESC:Veranstaltungen für Sport-Club Wörthsee
REFRESH-INTERVAL;VALUE=DURATION:PT1H
X-Robots-Tag:noindex
X-PUBLISHED-TTL:PT1H
BEGIN:VTIMEZONE
TZID:Europe/Berlin
BEGIN:DAYLIGHT
TZOFFSETFROM:+0100
TZOFFSETTO:+0200
TZNAME:CEST
DTSTART:20250330T010000
END:DAYLIGHT
BEGIN:STANDARD
TZOFFSETFROM:+0200
TZOFFSETTO:+0100
TZNAME:CET
DTSTART:20251026T010000
END:STANDARD
BEGIN:DAYLIGHT
TZOFFSETFROM:+0100
TZOFFSETTO:+0200
TZNAME:CEST
DTSTART:20260329T010000
END:DAYLIGHT
BEGIN:STANDARD
TZOFFSETFROM:+0200
TZOFFSETTO:+0100
TZNAME:CET
DTSTART:20261025T010000
END:STANDARD
BEGIN:DAYLIGHT
TZOFFSETFROM:+0100
TZOFFSETTO:+0200
TZNAME:CEST
DTSTART:20270328T010000
END:DAYLIGHT
BEGIN:STANDARD
TZOFFSETFROM:+0200
TZOFFSETTO:+0100
TZNAME:CET
DTSTART:20271031T010000
END:STANDARD
END:VTIMEZONE
BEGIN:VEVENT
DTSTART;TZID=Europe/Berlin:20260417T193000
DTEND;TZID=Europe/Berlin:20260417T220000
DTSTAMP:20260419T232416
CREATED:20260327T143320Z
LAST-MODIFIED:20260327T143320Z
UID:13571-1776454200-1776463200@www.sc-woerthsee.de
SUMMARY:Vortrag mit Dr. Friederike Feil - Mehr Power durch einen gesunden Darm
DESCRIPTION:Vortrag mit Dr. Friederike Feil \n \nMehr Power durch einen gesunden Darm – was Dein Darm mit Deiner Leistungsfähigkeit zu tun hat und Sporternährung\, die wirklich fit macht. \nWir freuen uns sehr\, dass Friederike Feil – promovierte Sportwissenschaftlerin\, Gesundheitsmentorin\, Bestsellerautorin und Forscherin aus Leidenschaft extra zu uns an den Wörthsee kommt! \nFreitag 17. April 2026 | 20 Uhr | Einlass ab 19:30 Uhr \nVeranstaltungssaal beim Kirchenwirt\, Weßlinger Str. 1\, 82237 Wörthsee \nEintritt FREI – Spenden erbeten
URL:https://www.sc-woerthsee.de/veranstaltung/vortrag-mit-dr-friederike-feil-mehr-power-durch-einen-gesunden-darm/
LOCATION:Veranstaltungssaal beim Kirchenwirt\, Weßlinger Str. 1\, 82237 Wörthsee\, Weßlinger Str. 1\, Wörthsee\, 82237\, Germany
CATEGORIES:Triathlon,Verein
END:VEVENT
END:VCALENDAR