BEGIN:VCALENDAR
VERSION:2.0
PRODID:-//Sport-Club Wörthsee - ECPv6.15.20//NONSGML v1.0//EN
CALSCALE:GREGORIAN
METHOD:PUBLISH
X-WR-CALNAME:Sport-Club Wörthsee
X-ORIGINAL-URL:https://www.sc-woerthsee.de
X-WR-CALDESC:Veranstaltungen für Sport-Club Wörthsee
REFRESH-INTERVAL;VALUE=DURATION:PT1H
X-Robots-Tag:noindex
X-PUBLISHED-TTL:PT1H
BEGIN:VTIMEZONE
TZID:Europe/Berlin
BEGIN:DAYLIGHT
TZOFFSETFROM:+0100
TZOFFSETTO:+0200
TZNAME:CEST
DTSTART:20250330T010000
END:DAYLIGHT
BEGIN:STANDARD
TZOFFSETFROM:+0200
TZOFFSETTO:+0100
TZNAME:CET
DTSTART:20251026T010000
END:STANDARD
BEGIN:DAYLIGHT
TZOFFSETFROM:+0100
TZOFFSETTO:+0200
TZNAME:CEST
DTSTART:20260329T010000
END:DAYLIGHT
BEGIN:STANDARD
TZOFFSETFROM:+0200
TZOFFSETTO:+0100
TZNAME:CET
DTSTART:20261025T010000
END:STANDARD
BEGIN:DAYLIGHT
TZOFFSETFROM:+0100
TZOFFSETTO:+0200
TZNAME:CEST
DTSTART:20270328T010000
END:DAYLIGHT
BEGIN:STANDARD
TZOFFSETFROM:+0200
TZOFFSETTO:+0100
TZNAME:CET
DTSTART:20271031T010000
END:STANDARD
END:VTIMEZONE
BEGIN:VEVENT
DTSTART;TZID=Europe/Berlin:20260508T193000
DTEND;TZID=Europe/Berlin:20260508T223000
DTSTAMP:20260419T233918
CREATED:20260322T091714Z
LAST-MODIFIED:20260322T091714Z
UID:13563-1778268600-1778279400@www.sc-woerthsee.de
SUMMARY:tanzBar 08. Mai 2026
DESCRIPTION:Liebe Tanzfreudige jeden Alters! \nImmer am 2. Freitag im Monat könnt ihr euer Tanzbein im Deyhlehaus schwingen. Die tanzBar startet immer mit einem einstündigen Tanzkurs zu einem Tanz der Wahl und geht dann über in einen freien Tanzabend mit Barbetrieb. \n19:30 – 20.30 Uhr:  \nTanzkurs  \nKeine Vorkenntnisse erforderlich. \nAb 20.30 Uhr  \nFreies Tanzen und Barbetrieb \nEinzelne Tänzerinnen und Tänzer sind ebenso willkommen wie Tanzpaare!  \nDie tanzBar ist ein freies Kursangebot für alle Teilnehmer\, Mitglieder und Nichtmitglieder des Sportvereins. Spenden sind willkommen.   \nWer informiert werden möchte über die genauen Termine und Kursinhalte\, kann in einen entsprechenden Email – Verteiler aufgenommen werden. Einfach bei Maja melden. \nWeitere Informationen über Maja Grundei unter 0151 20683379 oder über die geschaeftsstelle@sc-woerthsee.de. \n \n 
URL:https://www.sc-woerthsee.de/veranstaltung/tanzbar-08-mai-2026/
LOCATION:Dr.Albrecht-Deyhle-Haus\, Etterschlager Str. 103\, Wörthsee\, 82237\, Deutschland
CATEGORIES:Gesamtverein,Verein
END:VEVENT
END:VCALENDAR